BEGIN:VCALENDAR
VERSION:2.0
PRODID:-//Sabre//Sabre VObject 4.5.8//EN
CALSCALE:GREGORIAN
NAME:Demo Churchsystem
X-WR-CALNAME:Demo Churchsystem
BEGIN:VEVENT
UID:sabre-vobject-eb9001ff-a802-45ac-ae5f-34ce3c92d83e
DTSTAMP:20260424T134514Z
SUMMARY:Wallfahrt nach Maria-Thann
DESCRIPTION:https://demo.churchsystem.de/wallfahrt-nach-maria-thann_id43933
DTSTART;TZID=Europe/Berlin:20260920T103000
DTEND;TZID=Europe/Berlin:20260920T133000
LOCATION:Wallfahrtskirche Mariä Himmelfahrt\, Maria-Thann 5\, 88145  Herga
 tz
END:VEVENT
END:VCALENDAR
