BEGIN:VCALENDAR
VERSION:2.0
PRODID:-//Sabre//Sabre VObject 4.5.8//EN
CALSCALE:GREGORIAN
BEGIN:VEVENT
UID:sabre-vobject-51ebc4e9-d679-4960-80ce-aeef131c3172
DTSTAMP:20260425T005744Z
SUMMARY:Festgottesdienst zum Hochfest
DESCRIPTION:https://demo.churchsystem.de/festgottesdienst-zum-hochfest_id44
 881
DTSTART;TZID=Europe/Berlin:20260501T100000
DURATION:PT30M
LOCATION:St. Joseph\, \,  
END:VEVENT
END:VCALENDAR
