BEGIN:VCALENDAR
VERSION:2.0
PRODID:-//Sabre//Sabre VObject 4.5.8//EN
CALSCALE:GREGORIAN
BEGIN:VEVENT
UID:sabre-vobject-7f54d00b-13a8-4c07-bd82-aea56172b442
DTSTAMP:20260424T232154Z
SUMMARY:Barmherzigkeits-Rosenkranz
DESCRIPTION:https://demo.churchsystem.de/barmherzigkeits-rosenkranz_id44880
DTSTART;TZID=Europe/Berlin:20260501T094500
DURATION:PT30M
LOCATION:St. Joseph\, \,  
END:VEVENT
END:VCALENDAR
