BEGIN:VCALENDAR
VERSION:2.0
PRODID:-//Sabre//Sabre VObject 4.5.8//EN
CALSCALE:GREGORIAN
BEGIN:VEVENT
UID:sabre-vobject-ee09c485-78d6-4eaf-a818-6fdd383285b5
DTSTAMP:20260424T183306Z
SUMMARY:"Hoigate" im Pfarrstüble
DESCRIPTION:https://demo.churchsystem.de/hoigate-im-pfarrstueble_id44879
DTSTART;TZID=Europe/Berlin:20260429T140000
DURATION:PT30M
LOCATION:St. Joseph\, \,  
END:VEVENT
END:VCALENDAR
