BEGIN:VCALENDAR
VERSION:2.0
PRODID:-//Sabre//Sabre VObject 4.5.8//EN
CALSCALE:GREGORIAN
BEGIN:VEVENT
UID:sabre-vobject-e9e07069-b0dc-4272-8b90-31dcaa6ea351
DTSTAMP:20260424T165845Z
SUMMARY:Rosenkranz um Priester und Ordensberufe
DESCRIPTION:https://demo.churchsystem.de/rosenkranz-um-priester-und-ordensb
 erufe_id44878
DTSTART;TZID=Europe/Berlin:20260429T081500
DURATION:PT30M
LOCATION:St. Joseph\, \,  
END:VEVENT
END:VCALENDAR
