BEGIN:VCALENDAR
VERSION:2.0
PRODID:-//Sabre//Sabre VObject 4.5.8//EN
CALSCALE:GREGORIAN
BEGIN:VEVENT
UID:sabre-vobject-a602320d-25b1-45b5-9021-f5d5795c13ab
DTSTAMP:20260424T200948Z
SUMMARY:Dankandacht mit Opfergabe der Erstkommunionkinder
DESCRIPTION:https://demo.churchsystem.de/dankandacht-mit-opfergabe-der-erst
 kommunionkinder_id44877
DTSTART;TZID=Europe/Berlin:20260426T163000
DURATION:PT30M
LOCATION:St. Joseph\, \,  
END:VEVENT
END:VCALENDAR
