BEGIN:VCALENDAR
VERSION:2.0
PRODID:-//Sabre//Sabre VObject 4.5.8//EN
CALSCALE:GREGORIAN
BEGIN:VEVENT
UID:sabre-vobject-47b53c8a-c403-4392-bde9-06367f6371c7
DTSTAMP:20260424T153007Z
SUMMARY:Festgottesdienst mit Erstkommunionfeier
DESCRIPTION:https://demo.churchsystem.de/festgottesdienst-mit-erstkommunion
 feier_id44875
DTSTART;TZID=Europe/Berlin:20260426T100000
DURATION:PT30M
LOCATION:St. Joseph\, \,  
END:VEVENT
END:VCALENDAR
