BEGIN:VCALENDAR
VERSION:2.0
PRODID:-//Sabre//Sabre VObject 4.5.8//EN
CALSCALE:GREGORIAN
BEGIN:VEVENT
UID:sabre-vobject-bff7c8e8-93f3-4a14-a0d2-b7f6d0aabc14
DTSTAMP:20260424T153003Z
SUMMARY:Hl. Messe
DESCRIPTION:https://demo.churchsystem.de/hl-messe_id44873
DTSTART;TZID=Europe/Berlin:20260428T191500
DURATION:PT30M
LOCATION:St. Wolfgang\, \,  
END:VEVENT
END:VCALENDAR
