BEGIN:VCALENDAR
VERSION:2.0
PRODID:-//Sabre//Sabre VObject 4.5.8//EN
CALSCALE:GREGORIAN
BEGIN:VEVENT
UID:sabre-vobject-8366d142-3657-4f0d-ae31-8822cfe4cb29
DTSTAMP:20260424T165807Z
SUMMARY:Rosenkranz um Priester und Ordensberufe
DESCRIPTION:https://demo.churchsystem.de/rosenkranz-um-priester-und-ordensb
 erufe_id44872
DTSTART;TZID=Europe/Berlin:20260427T080000
DURATION:PT30M
LOCATION:St. Wolfgang\, \,  
END:VEVENT
END:VCALENDAR
