BEGIN:VCALENDAR
VERSION:2.0
PRODID:-//Sabre//Sabre VObject 4.5.8//EN
CALSCALE:GREGORIAN
BEGIN:VEVENT
UID:sabre-vobject-8dc3abb9-daf5-4552-b6eb-65130faa5acc
DTSTAMP:20260424T183307Z
SUMMARY:Dankandacht mit Opfergabe der Erstkommunionkinder
DESCRIPTION:https://demo.churchsystem.de/dankandacht-mit-opfergabe-der-erst
 kommunionkinder_id44871
DTSTART;TZID=Europe/Berlin:20260426T170000
DURATION:PT30M
LOCATION:St. Wolfgang\, \,  
END:VEVENT
END:VCALENDAR
