BEGIN:VCALENDAR
VERSION:2.0
PRODID:-//Sabre//Sabre VObject 4.5.8//EN
CALSCALE:GREGORIAN
BEGIN:VEVENT
UID:sabre-vobject-5dccd4f5-cbdb-4d26-a90c-bffd70db2b6e
DTSTAMP:20260424T165817Z
SUMMARY:Probe der Erstkommunionkinder
DESCRIPTION:https://demo.churchsystem.de/probe-der-erstkommunionkinder_id44
 869
DTSTART;TZID=Europe/Berlin:20260425T140000
DURATION:PT30M
LOCATION:St. Wolfgang\, \,  
END:VEVENT
END:VCALENDAR
