BEGIN:VCALENDAR
VERSION:2.0
PRODID:-//Sabre//Sabre VObject 4.5.8//EN
CALSCALE:GREGORIAN
BEGIN:VEVENT
UID:sabre-vobject-6d6aea38-27bb-46d7-9392-5fd76d7f5cba
DTSTAMP:20260424T183317Z
SUMMARY:Vorabendmesse zum Hochfest Maria Schutzfrau von Bayern
DESCRIPTION:https://demo.churchsystem.de/vorabendmesse-zum-hochfest-maria-s
 chutzfrau-von-bayern_id44868
DTSTART;TZID=Europe/Berlin:20260430T191500
DURATION:PT30M
LOCATION:St. Wolfgang\, \,  
END:VEVENT
END:VCALENDAR
