BEGIN:VCALENDAR
VERSION:2.0
PRODID:-//Sabre//Sabre VObject 4.5.8//EN
CALSCALE:GREGORIAN
BEGIN:VEVENT
UID:sabre-vobject-326661b4-a744-4ce7-bbf9-631ff20707f7
DTSTAMP:20260424T214304Z
SUMMARY:Festgottesdienst zum Hochfest in der Seelenkapelle
DESCRIPTION:https://demo.churchsystem.de/festgottesdienst-zum-hochfest-in-d
 er-seelenkapelle_id44866
DTSTART;TZID=Europe/Berlin:20260501T083000
DURATION:PT30M
END:VEVENT
END:VCALENDAR
