BEGIN:VCALENDAR
VERSION:2.0
PRODID:-//Sabre//Sabre VObject 4.5.8//EN
CALSCALE:GREGORIAN
BEGIN:VEVENT
UID:sabre-vobject-e1142815-b005-4ec9-987c-d35fe42b5746
DTSTAMP:20260424T134113Z
SUMMARY:Rosenkranz um Priester und Ordensberufe
DESCRIPTION:https://demo.churchsystem.de/rosenkranz-um-priester-und-ordensb
 erufe_id44865
DTSTART;TZID=Europe/Berlin:20260429T080000
DURATION:PT30M
END:VEVENT
END:VCALENDAR
