BEGIN:VCALENDAR
VERSION:2.0
PRODID:-//Sabre//Sabre VObject 4.5.8//EN
CALSCALE:GREGORIAN
BEGIN:VEVENT
UID:sabre-vobject-9c998679-9456-4294-b253-c7eb95c1a0a2
DTSTAMP:20260424T134200Z
SUMMARY:Pfarrgottesdienst
DESCRIPTION:https://demo.churchsystem.de/pfarrgottesdienst_id44863
DTSTART;TZID=Europe/Berlin:20260426T083000
DURATION:PT30M
END:VEVENT
END:VCALENDAR
