BEGIN:VCALENDAR
VERSION:2.0
PRODID:-//Sabre//Sabre VObject 4.5.8//EN
CALSCALE:GREGORIAN
BEGIN:VEVENT
UID:sabre-vobject-a9e8bc85-acfa-47f0-a846-a5bacfb7c889
DTSTAMP:20260424T134200Z
SUMMARY:Hl. Messe
DESCRIPTION:https://demo.churchsystem.de/hl-messe_id44860
DTSTART;TZID=Europe/Berlin:20260429T191500
DURATION:PT30M
END:VEVENT
END:VCALENDAR
