BEGIN:VCALENDAR
VERSION:2.0
PRODID:-//Sabre//Sabre VObject 4.5.8//EN
CALSCALE:GREGORIAN
BEGIN:VEVENT
UID:sabre-vobject-b3c4c9ee-0ace-4a11-821f-424270003965
DTSTAMP:20260424T183317Z
SUMMARY:Beichtgelegenheit
DESCRIPTION:https://demo.churchsystem.de/beichtgelegenheit_id44859
DTSTART;TZID=Europe/Berlin:20260425T184500
DURATION:PT30M
END:VEVENT
END:VCALENDAR
