BEGIN:VCALENDAR
VERSION:2.0
PRODID:-//Sabre//Sabre VObject 4.5.8//EN
CALSCALE:GREGORIAN
BEGIN:VEVENT
UID:sabre-vobject-3fd0df26-1a50-4f51-af38-8fe5c59d6aca
DTSTAMP:20260424T165816Z
SUMMARY:Rosenkranz um Priester und Ordensberufe
DESCRIPTION:https://demo.churchsystem.de/rosenkranz-um-priester-und-ordensb
 erufe_id44858
DTSTART;TZID=Europe/Berlin:20260429T184500
DURATION:PT30M
END:VEVENT
END:VCALENDAR
