BEGIN:VCALENDAR
VERSION:2.0
PRODID:-//Sabre//Sabre VObject 4.5.8//EN
CALSCALE:GREGORIAN
BEGIN:VEVENT
UID:sabre-vobject-b3a0ad47-afb6-4abd-884e-a11a0f2b59f6
DTSTAMP:20260424T171550Z
SUMMARY:Vorabendmesse zum Sonntag
DESCRIPTION:https://demo.churchsystem.de/vorabendmesse-zum-sonntag_id44857
DTSTART;TZID=Europe/Berlin:20260425T191500
DURATION:PT30M
END:VEVENT
END:VCALENDAR
