BEGIN:VCALENDAR
VERSION:2.0
PRODID:-//Sabre//Sabre VObject 4.5.8//EN
CALSCALE:GREGORIAN
BEGIN:VEVENT
UID:sabre-vobject-85ad9575-3c3a-4e0c-bcc9-3dacb3541354
DTSTAMP:20260424T183409Z
SUMMARY:Festgottesdienst zum Hochfest anschl. Flurumgang
DESCRIPTION:https://demo.churchsystem.de/festgottesdienst-zum-hochfest-ansc
 hl-flurumgang_id44856
DTSTART;TZID=Europe/Berlin:20260513T184500
DURATION:PT30M
END:VEVENT
END:VCALENDAR
