BEGIN:VCALENDAR
VERSION:2.0
PRODID:-//Sabre//Sabre VObject 4.5.8//EN
CALSCALE:GREGORIAN
BEGIN:VEVENT
UID:sabre-vobject-492911eb-2d01-459d-89b8-155fc6193a5b
DTSTAMP:20260424T185251Z
SUMMARY:Bittmesse in der Kapelle Großried
DESCRIPTION:https://demo.churchsystem.de/bittmesse-in-der-kapelle-grossried
 _id44855
DTSTART;TZID=Europe/Berlin:20260511T193000
DURATION:PT30M
END:VEVENT
END:VCALENDAR
