BEGIN:VCALENDAR
VERSION:2.0
PRODID:-//Sabre//Sabre VObject 4.5.8//EN
CALSCALE:GREGORIAN
BEGIN:VEVENT
UID:sabre-vobject-0fe6dcb8-215a-4a91-9753-de914e996892
DTSTAMP:20260425T010950Z
SUMMARY:Bittgang nach Großried - Treffpunkt am Feuerwehrhaus (nur bei sch
 önem Wetter)
DESCRIPTION:https://demo.churchsystem.de/bittgang-nach-grossried-treffpunkt
 -am-feuerwehrhaus-nur-bei-schoenem-wetter_id44854
DTSTART;TZID=Europe/Berlin:20260511T181500
DURATION:PT30M
END:VEVENT
END:VCALENDAR
