BEGIN:VCALENDAR
VERSION:2.0
PRODID:-//Sabre//Sabre VObject 4.5.8//EN
CALSCALE:GREGORIAN
BEGIN:VEVENT
UID:sabre-vobject-c3eff723-1e52-473a-b1b2-1febf4eec810
DTSTAMP:20260424T201803Z
SUMMARY:Pfarrgottesdienst als Dankgottesdienst zur Goldenen Hochzeit von Jo
 sef u. Viktoria Neumann
DESCRIPTION:https://demo.churchsystem.de/pfarrgottesdienst-als-dankgottesdi
 enst-zur-goldenen-hochzeit-von-josef-u-viktoria-neumann_id44853
DTSTART;TZID=Europe/Berlin:20260510T100000
DURATION:PT30M
END:VEVENT
END:VCALENDAR
