BEGIN:VCALENDAR
VERSION:2.0
PRODID:-//Sabre//Sabre VObject 4.5.8//EN
CALSCALE:GREGORIAN
BEGIN:VEVENT
UID:sabre-vobject-a58cf253-7bbb-492b-ae7f-9279a046ac2f
DTSTAMP:20260425T005745Z
SUMMARY:Rosenkranz zu Ehren der Mutter Gottes
DESCRIPTION:https://demo.churchsystem.de/rosenkranz-zu-ehren-der-mutter-got
 tes_id44851
DTSTART;TZID=Europe/Berlin:20260506T184500
DURATION:PT30M
END:VEVENT
END:VCALENDAR
