BEGIN:VCALENDAR
VERSION:2.0
PRODID:-//Sabre//Sabre VObject 4.5.8//EN
CALSCALE:GREGORIAN
BEGIN:VEVENT
UID:sabre-vobject-c010bc08-05be-4ec1-a7b6-bd4c1e186d7a
DTSTAMP:20260424T201801Z
SUMMARY:Maiandacht am "alten Friedhof" (DFG) Treffpunkt hinter der Kirche
DESCRIPTION:https://demo.churchsystem.de/maiandacht-am-alten-friedhof-dfg-t
 reffpunkt-hinter-der-kirche_id44850
DTSTART;TZID=Europe/Berlin:20260503T190000
DURATION:PT30M
END:VEVENT
END:VCALENDAR
