BEGIN:VCALENDAR
VERSION:2.0
PRODID:-//Sabre//Sabre VObject 4.5.8//EN
CALSCALE:GREGORIAN
BEGIN:VEVENT
UID:sabre-vobject-979b65c5-de23-47fc-8c0e-75195b3888c9
DTSTAMP:20260424T231043Z
SUMMARY:Pfarrgottesdienst in Baisweil
DESCRIPTION:https://demo.churchsystem.de/pfarrgottesdienst-in-baisweil_id44
 849
DTSTART;TZID=Europe/Berlin:20260503T000000
DURATION:PT30M
END:VEVENT
END:VCALENDAR
