BEGIN:VCALENDAR
VERSION:2.0
PRODID:-//Sabre//Sabre VObject 4.5.8//EN
CALSCALE:GREGORIAN
BEGIN:VEVENT
UID:sabre-vobject-a317a4dd-f2a3-426c-b8e0-774fd7de0546
DTSTAMP:20260424T214305Z
SUMMARY:Rosenkranz um gute Witterung
DESCRIPTION:https://demo.churchsystem.de/rosenkranz-um-gute-witterung_id448
 47
DTSTART;TZID=Europe/Berlin:20260513T081500
DURATION:PT30M
LOCATION:St. Joseph\, \,  
END:VEVENT
END:VCALENDAR
