BEGIN:VCALENDAR
VERSION:2.0
PRODID:-//Sabre//Sabre VObject 4.5.8//EN
CALSCALE:GREGORIAN
BEGIN:VEVENT
UID:sabre-vobject-8689357a-81ab-4d98-bc0d-3a3e3975021b
DTSTAMP:20260424T183319Z
SUMMARY:Vorabendmesse zum Sonntag als Floriansmesse v. Unterkreis\nanschl. 
 Einweihung Feuerwehranhänger
DESCRIPTION:https://demo.churchsystem.de/vorabendmesse-zum-sonntag-als-flor
 iansmesse-v-unterkreis-anschl-einweihung-feuerwehranhaenger_id44846
DTSTART;TZID=Europe/Berlin:20260509T191500
DURATION:PT30M
LOCATION:St. Joseph\, \,  
END:VEVENT
END:VCALENDAR
