BEGIN:VCALENDAR
VERSION:2.0
PRODID:-//Sabre//Sabre VObject 4.5.8//EN
CALSCALE:GREGORIAN
BEGIN:VEVENT
UID:sabre-vobject-17f37e4e-b1e7-45af-87e3-b728381c784b
DTSTAMP:20260424T200829Z
SUMMARY:Hl. Messe in Aschthal
DESCRIPTION:https://demo.churchsystem.de/hl-messe-in-aschthal_id44845
DTSTART;TZID=Europe/Berlin:20260507T191500
DURATION:PT30M
LOCATION:St. Joseph\, \,  
END:VEVENT
END:VCALENDAR
