BEGIN:VCALENDAR
VERSION:2.0
PRODID:-//Sabre//Sabre VObject 4.5.8//EN
CALSCALE:GREGORIAN
BEGIN:VEVENT
UID:sabre-vobject-6f6ea877-e820-41d7-a9af-9249f7cc0051
DTSTAMP:20260424T232155Z
SUMMARY:Rosenkranz zu Ehren der Mutter Gottes
DESCRIPTION:https://demo.churchsystem.de/rosenkranz-zu-ehren-der-mutter-got
 tes_id44844
DTSTART;TZID=Europe/Berlin:20260506T081500
DURATION:PT30M
LOCATION:St. Joseph\, \,  
END:VEVENT
END:VCALENDAR
