BEGIN:VCALENDAR
VERSION:2.0
PRODID:-//Sabre//Sabre VObject 4.5.8//EN
CALSCALE:GREGORIAN
BEGIN:VEVENT
UID:sabre-vobject-b0752e79-e7fd-4807-93d3-e1fdfd4e669d
DTSTAMP:20260424T201803Z
SUMMARY:Feierliche Maiandacht m. d. Kommunionkindern
DESCRIPTION:https://demo.churchsystem.de/feierliche-maiandacht-m-d-kommunio
 nkindern_id44843
DTSTART;TZID=Europe/Berlin:20260503T191500
DURATION:PT30M
LOCATION:St. Joseph\, \,  
END:VEVENT
END:VCALENDAR
