BEGIN:VCALENDAR
VERSION:2.0
PRODID:-//Sabre//Sabre VObject 4.5.8//EN
CALSCALE:GREGORIAN
BEGIN:VEVENT
UID:sabre-vobject-79cd5670-0f8e-4e34-9604-cfdb0a4d60f0
DTSTAMP:20260424T232155Z
SUMMARY:Hl. Messe
DESCRIPTION:https://demo.churchsystem.de/hl-messe_id44841
DTSTART;TZID=Europe/Berlin:20260506T191500
DURATION:PT30M
END:VEVENT
END:VCALENDAR
