BEGIN:VCALENDAR
VERSION:2.0
PRODID:-//Sabre//Sabre VObject 4.5.8//EN
CALSCALE:GREGORIAN
BEGIN:VEVENT
UID:sabre-vobject-ee2c5672-8d7e-4773-89c4-5acb6c264696
DTSTAMP:20260424T201801Z
SUMMARY:Festgottesdienst zum Hochfest anschl. Flurumgang
DESCRIPTION:https://demo.churchsystem.de/festgottesdienst-zum-hochfest-ansc
 hl-flurumgang_id44839
DTSTART;TZID=Europe/Berlin:20260514T090000
DURATION:PT30M
END:VEVENT
END:VCALENDAR
