BEGIN:VCALENDAR
VERSION:2.0
PRODID:-//Sabre//Sabre VObject 4.5.8//EN
CALSCALE:GREGORIAN
BEGIN:VEVENT
UID:sabre-vobject-a6f52f51-f2af-4c43-beef-13f0295ef30d
DTSTAMP:20260424T200922Z
SUMMARY:Bitt-Messe in der Marien-Seelenkapelle
DESCRIPTION:https://demo.churchsystem.de/bitt-messe-in-der-marien-seelenkap
 elle_id44838
DTSTART;TZID=Europe/Berlin:20260513T090000
DURATION:PT30M
END:VEVENT
END:VCALENDAR
