BEGIN:VCALENDAR
VERSION:2.0
PRODID:-//Sabre//Sabre VObject 4.5.8//EN
CALSCALE:GREGORIAN
BEGIN:VEVENT
UID:sabre-vobject-583610cb-7d16-4c9e-97b1-c9cde278b81c
DTSTAMP:20260424T201802Z
SUMMARY:Unterhaltungs-Nachmittag im Pfarrheim
DESCRIPTION:https://demo.churchsystem.de/unterhaltungs-nachmittag-im-pfarrh
 eim_id44837
DTSTART;TZID=Europe/Berlin:20260512T140000
DURATION:PT30M
END:VEVENT
END:VCALENDAR
