BEGIN:VCALENDAR
VERSION:2.0
PRODID:-//Sabre//Sabre VObject 4.5.8//EN
CALSCALE:GREGORIAN
BEGIN:VEVENT
UID:sabre-vobject-031bd0f0-f488-4198-8a72-41249a5ccd35
DTSTAMP:20260424T214307Z
SUMMARY:Pfarrgottesdienst als Familiengottesdienst
DESCRIPTION:https://demo.churchsystem.de/pfarrgottesdienst-als-familiengott
 esdienst_id44835
DTSTART;TZID=Europe/Berlin:20260510T100000
DURATION:PT30M
END:VEVENT
END:VCALENDAR
