BEGIN:VCALENDAR
VERSION:2.0
PRODID:-//Sabre//Sabre VObject 4.5.8//EN
CALSCALE:GREGORIAN
BEGIN:VEVENT
UID:sabre-vobject-7e289067-f2f9-4920-a5c9-9a8f313f4e21
DTSTAMP:20260424T200905Z
SUMMARY:"Singen macht Spaß" im Pfarrheim
DESCRIPTION:https://demo.churchsystem.de/singen-macht-spass-im-pfarrheim_id
 44834
DTSTART;TZID=Europe/Berlin:20260508T193000
DURATION:PT30M
END:VEVENT
END:VCALENDAR
