BEGIN:VCALENDAR
VERSION:2.0
PRODID:-//Sabre//Sabre VObject 4.5.8//EN
CALSCALE:GREGORIAN
BEGIN:VEVENT
UID:sabre-vobject-7f7d5efd-3895-4e2e-9d84-754199f2030d
DTSTAMP:20260424T200830Z
SUMMARY:Hl. Messe
DESCRIPTION:https://demo.churchsystem.de/hl-messe_id44833
DTSTART;TZID=Europe/Berlin:20260508T191500
DURATION:PT30M
END:VEVENT
END:VCALENDAR
