BEGIN:VCALENDAR
VERSION:2.0
PRODID:-//Sabre//Sabre VObject 4.5.8//EN
CALSCALE:GREGORIAN
BEGIN:VEVENT
UID:sabre-vobject-76716746-1c52-4062-b2a8-3f5e0962b6bb
DTSTAMP:20260424T183305Z
SUMMARY:Barmherzigkeits-Rosenkranz
DESCRIPTION:https://demo.churchsystem.de/barmherzigkeits-rosenkranz_id44832
DTSTART;TZID=Europe/Berlin:20260508T190000
DURATION:PT30M
END:VEVENT
END:VCALENDAR
