BEGIN:VCALENDAR
VERSION:2.0
PRODID:-//Sabre//Sabre VObject 4.5.8//EN
CALSCALE:GREGORIAN
BEGIN:VEVENT
UID:sabre-vobject-20df1fc5-0b6b-42f1-b3dd-393a275dcba0
DTSTAMP:20260424T200948Z
SUMMARY:Hl. Messe in Salenwang
DESCRIPTION:https://demo.churchsystem.de/hl-messe-in-salenwang_id44828
DTSTART;TZID=Europe/Berlin:20260521T191500
DURATION:PT30M
LOCATION:St. Joseph\, \,  
END:VEVENT
END:VCALENDAR
