BEGIN:VCALENDAR
VERSION:2.0
PRODID:-//Sabre//Sabre VObject 4.5.8//EN
CALSCALE:GREGORIAN
BEGIN:VEVENT
UID:sabre-vobject-8d5bbd46-0806-4db7-afcd-a979811a1d10
DTSTAMP:20260424T185252Z
SUMMARY:Pfarrgottesdienst
DESCRIPTION:https://demo.churchsystem.de/pfarrgottesdienst_id44825
DTSTART;TZID=Europe/Berlin:20260517T083000
DURATION:PT30M
LOCATION:St. Joseph\, \,  
END:VEVENT
END:VCALENDAR
