BEGIN:VCALENDAR
VERSION:2.0
PRODID:-//Sabre//Sabre VObject 4.5.8//EN
CALSCALE:GREGORIAN
BEGIN:VEVENT
UID:sabre-vobject-0a515eae-4c92-418e-81c4-69a92a9db609
DTSTAMP:20260424T214304Z
SUMMARY:Barmherzigkeits-Rosenkranz
DESCRIPTION:https://demo.churchsystem.de/barmherzigkeits-rosenkranz_id44824
DTSTART;TZID=Europe/Berlin:20260517T081500
DURATION:PT30M
LOCATION:St. Joseph\, \,  
END:VEVENT
END:VCALENDAR
