BEGIN:VCALENDAR
VERSION:2.0
PRODID:-//Sabre//Sabre VObject 4.5.8//EN
CALSCALE:GREGORIAN
BEGIN:VEVENT
UID:sabre-vobject-6558f5d0-63db-4cf3-a7c9-243bbc325907
DTSTAMP:20260424T183408Z
SUMMARY:Rosenkranz um gute Witterung
DESCRIPTION:https://demo.churchsystem.de/rosenkranz-um-gute-witterung_id448
 23
DTSTART;TZID=Europe/Berlin:20260515T080000
DURATION:PT30M
LOCATION:St. Wolfgang\, \,  
END:VEVENT
END:VCALENDAR
