BEGIN:VCALENDAR
VERSION:2.0
PRODID:-//Sabre//Sabre VObject 4.5.8//EN
CALSCALE:GREGORIAN
BEGIN:VEVENT
UID:sabre-vobject-8f93bafa-265c-4b6e-b63e-c01e09925353
DTSTAMP:20260424T183306Z
SUMMARY:Festgottesdienst in Friesenried
DESCRIPTION:https://demo.churchsystem.de/festgottesdienst-in-friesenried_id
 44822
DTSTART;TZID=Europe/Berlin:20260514T000000
DURATION:PT30M
LOCATION:St. Wolfgang\, \,  
END:VEVENT
END:VCALENDAR
