BEGIN:VCALENDAR
VERSION:2.0
PRODID:-//Sabre//Sabre VObject 4.5.8//EN
CALSCALE:GREGORIAN
BEGIN:VEVENT
UID:sabre-vobject-0fa7617b-f1db-433b-8071-7c298941c44a
DTSTAMP:20260424T232152Z
SUMMARY:Rosenkranz um gute Witterung
DESCRIPTION:https://demo.churchsystem.de/rosenkranz-um-gute-witterung_id448
 21
DTSTART;TZID=Europe/Berlin:20260513T080000
DURATION:PT30M
LOCATION:St. Wolfgang\, \,  
END:VEVENT
END:VCALENDAR
