BEGIN:VCALENDAR
VERSION:2.0
PRODID:-//Sabre//Sabre VObject 4.5.8//EN
CALSCALE:GREGORIAN
BEGIN:VEVENT
UID:sabre-vobject-3809d0d7-b38e-4771-9dd1-a56632fe9438
DTSTAMP:20260424T232154Z
SUMMARY:Bittmesse
DESCRIPTION:https://demo.churchsystem.de/bittmesse_id44820
DTSTART;TZID=Europe/Berlin:20260512T191500
DURATION:PT30M
LOCATION:St. Wolfgang\, \,  
END:VEVENT
END:VCALENDAR
