BEGIN:VCALENDAR
VERSION:2.0
PRODID:-//Sabre//Sabre VObject 4.5.8//EN
CALSCALE:GREGORIAN
BEGIN:VEVENT
UID:sabre-vobject-c3b09e33-30e4-4bb5-b3a2-c912b21516a6
DTSTAMP:20260424T214305Z
SUMMARY:Bittgang von Romatsried nach Blöcktach (bei gutem Wetter)
DESCRIPTION:https://demo.churchsystem.de/bittgang-von-romatsried-nach-bloec
 ktach-bei-gutem-wetter_id44819
DTSTART;TZID=Europe/Berlin:20260512T184500
DURATION:PT30M
LOCATION:St. Wolfgang\, \,  
END:VEVENT
END:VCALENDAR
