BEGIN:VCALENDAR
VERSION:2.0
PRODID:-//Sabre//Sabre VObject 4.5.8//EN
CALSCALE:GREGORIAN
BEGIN:VEVENT
UID:sabre-vobject-332ab5ea-dcb4-4f24-b890-5e7b53ee6468
DTSTAMP:20260424T185253Z
SUMMARY:Bittgang zu einem Feldkreuz
DESCRIPTION:https://demo.churchsystem.de/bittgang-zu-einem-feldkreuz_id4481
 8
DTSTART;TZID=Europe/Berlin:20260511T191500
DURATION:PT30M
LOCATION:St. Wolfgang\, \,  
END:VEVENT
END:VCALENDAR
