BEGIN:VCALENDAR
VERSION:2.0
PRODID:-//Sabre//Sabre VObject 4.5.8//EN
CALSCALE:GREGORIAN
BEGIN:VEVENT
UID:sabre-vobject-36bae596-6e64-4c7e-9fc9-41bdac0e2c49
DTSTAMP:20260424T183409Z
SUMMARY:Pfarrgottesdienst
DESCRIPTION:https://demo.churchsystem.de/pfarrgottesdienst_id44817
DTSTART;TZID=Europe/Berlin:20260510T083000
DURATION:PT30M
LOCATION:St. Wolfgang\, \,  
END:VEVENT
END:VCALENDAR
