BEGIN:VCALENDAR
VERSION:2.0
PRODID:-//Sabre//Sabre VObject 4.5.8//EN
CALSCALE:GREGORIAN
BEGIN:VEVENT
UID:sabre-vobject-2eafaf34-4b68-43c9-9338-101e0181d8bf
DTSTAMP:20260424T200905Z
SUMMARY:Rosenkranz zu Ehren der Mutter Gottes
DESCRIPTION:https://demo.churchsystem.de/rosenkranz-zu-ehren-der-mutter-got
 tes_id44816
DTSTART;TZID=Europe/Berlin:20260506T080000
DURATION:PT30M
END:VEVENT
END:VCALENDAR
